BEGIN:VCALENDAR
VERSION:2.0
PRODID:-//Pinksterfeesten Nistelrode - ECPv6.15.20//NONSGML v1.0//EN
CALSCALE:GREGORIAN
METHOD:PUBLISH
X-ORIGINAL-URL:https://pinksterfeesten-nistelrode.nl
X-WR-CALDESC:Evenementen voor Pinksterfeesten Nistelrode
REFRESH-INTERVAL;VALUE=DURATION:PT1H
X-Robots-Tag:noindex
X-PUBLISHED-TTL:PT1H
BEGIN:VTIMEZONE
TZID:Europe/Amsterdam
BEGIN:DAYLIGHT
TZOFFSETFROM:+0100
TZOFFSETTO:+0200
TZNAME:CEST
DTSTART:20230326T010000
END:DAYLIGHT
BEGIN:STANDARD
TZOFFSETFROM:+0200
TZOFFSETTO:+0100
TZNAME:CET
DTSTART:20231029T010000
END:STANDARD
BEGIN:DAYLIGHT
TZOFFSETFROM:+0100
TZOFFSETTO:+0200
TZNAME:CEST
DTSTART:20240331T010000
END:DAYLIGHT
BEGIN:STANDARD
TZOFFSETFROM:+0200
TZOFFSETTO:+0100
TZNAME:CET
DTSTART:20241027T010000
END:STANDARD
BEGIN:DAYLIGHT
TZOFFSETFROM:+0100
TZOFFSETTO:+0200
TZNAME:CEST
DTSTART:20250330T010000
END:DAYLIGHT
BEGIN:STANDARD
TZOFFSETFROM:+0200
TZOFFSETTO:+0100
TZNAME:CET
DTSTART:20251026T010000
END:STANDARD
END:VTIMEZONE
BEGIN:VEVENT
DTSTART;TZID=Europe/Amsterdam:20240517T190000
DTEND;TZID=Europe/Amsterdam:20240517T235900
DTSTAMP:20260421T073704
CREATED:20230520T181136Z
LAST-MODIFIED:20240417T164504Z
UID:4912-1715972400-1715990340@pinksterfeesten-nistelrode.nl
SUMMARY:Horeca op vrijdag
DESCRIPTION:Om 15.00 uur opent de kermis haar attracties!\nIn de avond muziek en gezelligheid in de horeca.\n \nKermis bij ‘t Pumpke\nVrijdag 17 mei DJ Menno \nZaterdag 18 mei DJ Luppie | HotShot \nZondag 19 mei The Velvet Roses \nMaandag 20 mei DJ Joost |  Radio Rave | Snolly \nDinsdag 21 mei Pap & Pudding | DJ Menno \nCafe-Zaal ‘t Tramstation\nVrijdag 17 mei Radio 538 DJ’s on tour \nZaterdag 18 mei Party animals & DJ \nZondag 19 mei Nicky’s pride \nMaandag 20 mei Django Wagner & DJ \nDinsdag 21 mei Jet Set
URL:https://pinksterfeesten-nistelrode.nl/event/horeca-op-vrijdag/
CATEGORIES:Vrijdag
END:VEVENT
BEGIN:VEVENT
DTSTART;TZID=Europe/Amsterdam:20240517T140000
DTEND;TZID=Europe/Amsterdam:20240517T140000
DTSTAMP:20260421T073704
CREATED:20181210T150506Z
LAST-MODIFIED:20240416T191202Z
UID:2078-1715954400-1715954400@pinksterfeesten-nistelrode.nl
SUMMARY:Kermis vrijdag
DESCRIPTION:Tijdens de jaarlijkse kermis is er elke dag weer iets anders leuks te beleven. \nJe kunt een ritje in de Power Wave nemen\, je geluk beproeven bij het grijpspel of je duikt lekker in een van de andere attracties; de keuze is reuze! Ondertussen geniet je natuurlijk van de vele lekkernijen die bij de kramen te koop zijn of je geniet van een heerlijk drankje op een van de aanliggende terrassen. \nOpeningstijden kermis 2024\nVrijdag 17 mei vanaf 14.00 uur\nZaterdag 18 mei: vanaf 14.00 uur\nZondag 19 mei: vanaf 11.00 uur\nMaandag 20 mei: vanaf 11.00 uur\nDinsdag 21 mei: vanaf 15.00 uur\nDe eindtijden variëren \nDinsdagavond wordt het geheel afgesloten met een spectaculaire vuurwerkshow rond half 11.
URL:https://pinksterfeesten-nistelrode.nl/event/kermis/
LOCATION:Kermis Nistelrode\, Raadhuisplein\, Nistelrode\, Noord-Brabant\, 5388 GM
CATEGORIES:Vrijdag
END:VEVENT
BEGIN:VEVENT
DTSTART;VALUE=DATE:20240517
DTEND;VALUE=DATE:20240519
DTSTAMP:20260421T073704
CREATED:20230806T192249Z
LAST-MODIFIED:20240416T191412Z
UID:5744-1715907600-1715993999@pinksterfeesten-nistelrode.nl
SUMMARY:Vrijdag
DESCRIPTION:Vrijdag 17 tot en met dinsdag 21 mei 2024\n\n\n\nHet 50 jaar bestaan in 2024\, daarvoor heeft de organisatie al enkele jaren voor gespaard. Wederom mogen we de ondernemers\, onze sponsoren enorm bedanken voor hun deelname aan een sponsorpakket dat ontwikkelt is. Ook Stichting Charity Cup deed een duit in het zakje.\nPinksterfeesten Nistelrode 50 PFN XXL-jubileumplein #PFNXXL
URL:https://pinksterfeesten-nistelrode.nl/event/50-jaar-pinksterfeesten-nistelrode/
LOCATION:Centrum Nistelrode\, Laar 28\, Nistelrode\, 5388HG\, Nederland
CATEGORIES:Vrijdag
END:VEVENT
BEGIN:VEVENT
DTSTART;TZID=Europe/Amsterdam:20240508T083000
DTEND;TZID=Europe/Amsterdam:20240508T200000
DTSTAMP:20260421T073704
CREATED:20240508T174922Z
LAST-MODIFIED:20240508T174922Z
UID:6721-1715157000-1715198400@pinksterfeesten-nistelrode.nl
SUMMARY:Test 20.00
DESCRIPTION:test20.00
URL:https://pinksterfeesten-nistelrode.nl/event/test-20-00/
CATEGORIES:Vrijdag
END:VEVENT
END:VCALENDAR