BEGIN:VCALENDAR
VERSION:2.0
PRODID:-//Pinksterfeesten Nistelrode - ECPv6.15.20//NONSGML v1.0//EN
CALSCALE:GREGORIAN
METHOD:PUBLISH
X-WR-CALNAME:Pinksterfeesten Nistelrode
X-ORIGINAL-URL:https://pinksterfeesten-nistelrode.nl
X-WR-CALDESC:Evenementen voor Pinksterfeesten Nistelrode
REFRESH-INTERVAL;VALUE=DURATION:PT1H
X-Robots-Tag:noindex
X-PUBLISHED-TTL:PT1H
BEGIN:VTIMEZONE
TZID:Europe/Amsterdam
BEGIN:DAYLIGHT
TZOFFSETFROM:+0100
TZOFFSETTO:+0200
TZNAME:CEST
DTSTART:20230326T010000
END:DAYLIGHT
BEGIN:STANDARD
TZOFFSETFROM:+0200
TZOFFSETTO:+0100
TZNAME:CET
DTSTART:20231029T010000
END:STANDARD
BEGIN:DAYLIGHT
TZOFFSETFROM:+0100
TZOFFSETTO:+0200
TZNAME:CEST
DTSTART:20240331T010000
END:DAYLIGHT
BEGIN:STANDARD
TZOFFSETFROM:+0200
TZOFFSETTO:+0100
TZNAME:CET
DTSTART:20241027T010000
END:STANDARD
BEGIN:DAYLIGHT
TZOFFSETFROM:+0100
TZOFFSETTO:+0200
TZNAME:CEST
DTSTART:20250330T010000
END:DAYLIGHT
BEGIN:STANDARD
TZOFFSETFROM:+0200
TZOFFSETTO:+0100
TZNAME:CET
DTSTART:20251026T010000
END:STANDARD
END:VTIMEZONE
BEGIN:VEVENT
DTSTART;TZID=Europe/Amsterdam:20240519T113000
DTEND;TZID=Europe/Amsterdam:20240519T140000
DTSTAMP:20260421T073503
CREATED:20240416T182132Z
LAST-MODIFIED:20240416T182132Z
UID:6623-1716118200-1716127200@pinksterfeesten-nistelrode.nl
SUMMARY:Officiële opening
DESCRIPTION:Officiële opening
URL:https://pinksterfeesten-nistelrode.nl/event/officiele-opening/
CATEGORIES:Zondag
END:VEVENT
BEGIN:VEVENT
DTSTART;TZID=Europe/Amsterdam:20240519T110000
DTEND;TZID=Europe/Amsterdam:20240519T235900
DTSTAMP:20260421T073503
CREATED:20190531T171950Z
LAST-MODIFIED:20240416T202653Z
UID:2560-1716116400-1716163140@pinksterfeesten-nistelrode.nl
SUMMARY:Kermis zondag
DESCRIPTION:Tijdens de jaarlijkse kermis is er elke dag weer iets anders leuks te beleven. \nJe kunt een ritje in de Power Wave nemen\, je geluk beproeven bij het grijpspel of je duikt lekker in een van de andere attracties; de keuze is reuze! Ondertussen geniet je natuurlijk van de vele lekkernijen die bij de kramen te koop zijn of je geniet van een heerlijk drankje op een van de aanliggende terrassen. \nOpeningstijden kermis 2024\nVrijdag 17 mei vanaf 14.00 uur\nZaterdag 18 mei: vanaf 14.00 uur\nZondag 19 mei: vanaf 11.00 uur\nMaandag 20 mei: vanaf 11.00 uur\nDinsdag 21 mei: vanaf 15.00 uur\nDe eindtijden variëren \nDinsdagavond wordt het geheel afgesloten met een spectaculaire vuurwerkshow rond half 11.
URL:https://pinksterfeesten-nistelrode.nl/event/kermis-2/
LOCATION:Centrum Nistelrode\, Laar 28\, Nistelrode\, 5388HG\, Nederland
CATEGORIES:Zondag
END:VEVENT
BEGIN:VEVENT
DTSTART;TZID=Europe/Amsterdam:20240519T110000
DTEND;TZID=Europe/Amsterdam:20240519T170000
DTSTAMP:20260421T073503
CREATED:20240416T053648Z
LAST-MODIFIED:20240416T192140Z
UID:6550-1716116400-1716138000@pinksterfeesten-nistelrode.nl
SUMMARY:Smits Trial - Bike trail
DESCRIPTION:Patrick Smit\, een voormalig Nederlands Kampioen Mountainbike Trial\, is bekend om zijn indrukwekkende shows en clinics\, zowel nationaal als internationaal. Hij laat gedurfde stunts zien en maakt enorme sprongen op zijn fiets\, hij lijkt dit allemaal met gemak uit te voeren. Zijn stunts vereisen een combinatie van conditie\, coördinatie en moed. Zijn shows maken indruk bij zowel jong als oud\, waar hij op de vierkante meter laat zien wat er mogelijk is op een mountainbike.  \nBovendien biedt hij de mogelijkheid aan anderen om het zelf te proberen tijdens zijn clinics voor bedrijven en evenementen. \n\nwww.smittrial.nl \n  \nLocatie: Splitsing kermis braderie ter hoogte van Borrelpunt
URL:https://pinksterfeesten-nistelrode.nl/event/smits-trial-bike-trail/
CATEGORIES:Zondag
END:VEVENT
BEGIN:VEVENT
DTSTART;TZID=Europe/Amsterdam:20240519T110000
DTEND;TZID=Europe/Amsterdam:20240519T170000
DTSTAMP:20260421T073503
CREATED:20240416T053329Z
LAST-MODIFIED:20240416T192104Z
UID:6546-1716116400-1716138000@pinksterfeesten-nistelrode.nl
SUMMARY:Regina della musica
DESCRIPTION:Dit bijzondere duo is een opvallende verschijning. Hun Steampunk voertuig ziet eruit alsof het uit de toekomst komt\, overal zie je tandwielen en metaal. De kraaien op hun voertuig maken het beeld helemaal compleet. Maar het beste van het duo is de zingende Koningin\, als ze begint te zingen\, worden mensen betoverd. Het lijkt alsof ze rechtstreeks uit een sprookje komt. Gelukkig staat de koningin er niet alleen voor. Haar partner beschermt haar altijd. Hij heeft een goed uitzicht vanaf zijn hoge positie en kan gevaar op tijd zien. \n\nLocatie: Straattheater
URL:https://pinksterfeesten-nistelrode.nl/event/regina-della-musica/
CATEGORIES:Zondag
END:VEVENT
BEGIN:VEVENT
DTSTART;TZID=Europe/Amsterdam:20240519T110000
DTEND;TZID=Europe/Amsterdam:20240519T170000
DTSTAMP:20260421T073503
CREATED:20240413T120751Z
LAST-MODIFIED:20240416T192027Z
UID:6534-1716116400-1716138000@pinksterfeesten-nistelrode.nl
SUMMARY:Clown Pinkie
DESCRIPTION:Als Clown Pinkie maakt Benita in een handomdraai de mooiste en leukste ballon creaties. Ze heeft al zo’n 20 jaar ervaring in het entertainment vak\, zo heeft ze jarenlang gewerkt als typetje op themafeesten. En door haar werk in het basisonderwijs heeft ze veel ervaring met kinderen. Dit maakt een goede combinatie voor haar rol als Clown Pinkie. \nZe zal beide dagen op het parcours te zien zijn met haar vrolijke lach en mooie ballonnen.  \n \nLocatie: Straattheater\, kinderplein
URL:https://pinksterfeesten-nistelrode.nl/event/clown-pinkie/
LOCATION:Centrum Nistelrode\, Laar 28\, Nistelrode\, 5388HG\, Nederland
CATEGORIES:Zondag
END:VEVENT
BEGIN:VEVENT
DTSTART;TZID=Europe/Amsterdam:20240519T103000
DTEND;TZID=Europe/Amsterdam:20240519T113000
DTSTAMP:20260421T073503
CREATED:20240416T053955Z
LAST-MODIFIED:20240416T053955Z
UID:6554-1716114600-1716118200@pinksterfeesten-nistelrode.nl
SUMMARY:Angelique Piratenshow
DESCRIPTION:Ga jij met Magic Angelique als piraat mee op zoek naar de piratenschat? Het belooft een spannend avontuur te worden met zwaarden\, vuur\, magie\, rook en muziek. Als de schatkaart tot de piratenschat heeft geleid\, heeft Angelique een dappere dekzwabber nodig die haar gaat helpen de kist terug te gooien in het ruime sop of deze op een magische manier te openen. Als ze samen de schat weten te openen zit er misschien nog wel een klein cadeautje in voor de dekzwabbers die zo moedig zijn geweest haar te helpen in dit avontuur.  \nLocatie: PFN XXL 2024-plein
URL:https://pinksterfeesten-nistelrode.nl/event/angelique-piratenshow/
CATEGORIES:Zondag
END:VEVENT
BEGIN:VEVENT
DTSTART;TZID=Europe/Amsterdam:20240519T100000
DTEND;TZID=Europe/Amsterdam:20240519T170000
DTSTAMP:20260421T073503
CREATED:20240416T053846Z
LAST-MODIFIED:20240416T053846Z
UID:6552-1716112800-1716138000@pinksterfeesten-nistelrode.nl
SUMMARY:DJ Friso
DESCRIPTION:DJ Friso is een echte allround DJ\, hij weet ieder feest tot een muzikaal hoogtepunt te brengen. Hij heeft oog voor het publiek en draait voor ieder wat wils\, zo vermaakt hij al jarenlang jong en oud op diverse feesten\, van Jubilea tot kinderfeesten.  DJ Friso heeft een grote voorliefde voor de beste muzikale stijlen en maakt er altijd een onvergetelijk feest van.\nVoor Pinksterfeesten Nistelrode genoeg reden om DJ Friso ons jubileumpodium te laten domineren. Hij zorgt dat de andere artiesten af en toe een pauze kunnen hebben\, maar het feest wel meteen weer opgepakt kan worden. \nLocatie: PFN XXL 2024-plein
URL:https://pinksterfeesten-nistelrode.nl/event/dj-friso/
CATEGORIES:Zondag
END:VEVENT
BEGIN:VEVENT
DTSTART;TZID=Europe/Amsterdam:20240519T100000
DTEND;TZID=Europe/Amsterdam:20240519T170000
DTSTAMP:20260421T073503
CREATED:20190603T172513Z
LAST-MODIFIED:20240416T201524Z
UID:2570-1716112800-1716138000@pinksterfeesten-nistelrode.nl
SUMMARY:Braderie
DESCRIPTION:Meer dan 100 kramen zorgen ieder jaar weer voor een variëteit aan aanbiedingen. Je kunt er dan ook werkelijk alles vinden: van gebruiksartikelen tot linnen en van sieraden tot woondecoratie. Ook nu nog zijn de Nisseroise ondernemers ruimschoots vertegenwoordigd. De braderie is opgesteld in de hoofdstraten van Nistelrode; Weijen en Laar. Aan het braderieparcours liggen diverse terrassen\, waar je tijdig kunt uitrusten\, onder het genot van een hapje en een drankje. Dat alles terwijl je geniet van de muziek en het straattheater dat aan jou voorbijtrekt.
URL:https://pinksterfeesten-nistelrode.nl/event/braderie/
LOCATION:Centrum Nistelrode\, Laar 28\, Nistelrode\, 5388HG\, Nederland
CATEGORIES:Zondag
END:VEVENT
BEGIN:VEVENT
DTSTART;VALUE=DATE:20240519
DTEND;VALUE=DATE:20240521
DTSTAMP:20260421T073503
CREATED:20221201T184339Z
LAST-MODIFIED:20240513T140655Z
UID:2858-1716080400-1716166799@pinksterfeesten-nistelrode.nl
SUMMARY:Zondag
DESCRIPTION:Om alvast een kleine blik te kunnen werpen op de invulling van deze dag: \n\n10.00 uur Kermis … klik hier\n10.00 uur start Braderie … klik hier\n\n\nStraattheater … klik hier\nNostalgische routes … klik hier\nKinderplein … klik hier\nIn de avond muziek en gezelligheid bij de horeca.\nCafe-Zaal ‘t Tramstation\nEetcafé ‘t Pumpke
URL:https://pinksterfeesten-nistelrode.nl/event/zondag-uitgaan-tijdens-pinksteren/
LOCATION:Centrum Nistelrode\, Laar 28\, Nistelrode\, 5388HG\, Nederland
CATEGORIES:Zondag
END:VEVENT
BEGIN:VEVENT
DTSTART;TZID=Europe/Amsterdam:20240512T110000
DTEND;TZID=Europe/Amsterdam:20240512T160000
DTSTAMP:20260421T073503
CREATED:20240508T185430Z
LAST-MODIFIED:20240508T185702Z
UID:6723-1715511600-1715529600@pinksterfeesten-nistelrode.nl
SUMMARY:Professor Propkop
DESCRIPTION:Professor Propkop is een\, zoals hij dat zelf noemt\, professioneel probleemoplosser. \nWanneer hij geen problemen op hoeft te lossen werkt hij in zijn laboratorium aan diverse experimenten die hij weer kan verwerken in één van zijn voorstellingen. \n‘Experimendabel’ is een solovoorstelling van professor Propkop waarin hij aan de hand van experimenten vertelt wat hij heeft meegemaakt in zijn bizarre leven. Toch speelt Propkop deze voorstelling niet helemaal alleen. Doordat dit een interactieve voorstelling is heeft hij geregeld hulp nodig van het publiek. Want Propkop kan zichzelf wel heel slim vinden\, maar stiekem is hij dat helemaal niet. Dit levert hilarische situaties op waardoor het publiek eigenlijk meer een onderdeel wordt van de voorstelling dan alleen maar toeschouwers. Uiteindelijk komt alles altijd toch weer goed en heeft het publiek gelachen\, geholpen en wat geleerd! \n 
URL:https://pinksterfeesten-nistelrode.nl/event/professor-propkop/
CATEGORIES:Zondag
END:VEVENT
END:VCALENDAR